BEGIN:VCALENDAR
VERSION:2.0
PRODID:-//Tukios.com/
BEGIN:VEVENT
UID:6c0c1413-3936-4305-8589-5709152d31a1@www.schuetzfuneralhome.com
DTSTAMP:20260420T215105Z
DTSTART:20260422T180000Z
DTEND:20260422T190000Z
SUMMARY:Burial
DESCRIPTION:
URL:https://www.schuetzfuneralhome.com/obituaries/kathleen-scott
LOCATION:Logan Avenue Logan Ave  Mingo Junction OH 43938
GEO:40.3274875;-80.6107905
END:VEVENT
END:VCALENDAR