BEGIN:VCALENDAR
VERSION:2.0
PRODID:-//Tukios.com/
BEGIN:VEVENT
UID:56d97e8d-b2e9-4123-a2d0-29751d88f1ad@www.schuetzfuneralhome.com
DTSTAMP:20260420T215918Z
DTSTART:20260422T140000Z
DTEND:20260422T170000Z
SUMMARY:Visitation
DESCRIPTION:
URL:https://www.schuetzfuneralhome.com/obituaries/kathleen-scott
LOCATION:Schuetz Funeral Home 235 Clifton Ave.  Mingo Junction OH 43938
GEO:40.317498;-80.6102681
END:VEVENT
END:VCALENDAR