BEGIN:VCALENDAR
VERSION:2.0
PRODID:-//Tukios.com/
BEGIN:VEVENT
UID:8b5c84f4-debe-418e-be59-a3a5e64ca6ad@www.schuetzfuneralhome.com
DTSTAMP:20260420T034204Z
DTSTART:20260705T180000Z
DTEND:20260705T220000Z
SUMMARY:Celebration of Life
DESCRIPTION:
URL:https://www.schuetzfuneralhome.com/obituaries/harold-richards
LOCATION:Jim Woods Park Sheffield Avenue  Steubenville OH 43952
GEO:40.3807765;-80.6613157
END:VEVENT
END:VCALENDAR