BEGIN:VCALENDAR
VERSION:2.0
PRODID:-//Tukios.com/
BEGIN:VEVENT
UID:a4babfaa-1f10-4ef3-ba26-5a6ace6695a9@www.schuetzfuneralhome.com
DTSTAMP:20260422T005822Z
DTSTART:20260425T040000Z
DTEND:20260425T050000Z
SUMMARY:Celebration of Life
DESCRIPTION:
URL:https://www.schuetzfuneralhome.com/obituaries/charles-sheetz
LOCATION:his home Hooverson Hts.  Follansbee WV 26037
GEO:40.3275693;-80.5959065
END:VEVENT
END:VCALENDAR